BEGIN:VCALENDAR
VERSION:2.0
PRODID:KKTIX
CALSCALE:GREGORIAN
METHOD:PUBLISH
BEGIN:VTIMEZONE
TZID:Asia/Taipei
END:VTIMEZONE
BEGIN:VEVENT
DTSTAMP:20260425T195356Z
UID:168ad482-2631-4769-9506-bb90e9724c38
DTSTART:20251206T074000Z
DTEND:20260105T100000Z
CLASS:PUBLIC
DESCRIPTION:https://monyi.kktix.cc/events/maydaytable
LOCATION: (彰化縣田尾鄉陸豐村民生路三段280號) 海豐崙彩
 繪村
SUMMARY:💙 五迷之約｜沉浸式體驗五迷餐桌
END:VEVENT
END:VCALENDAR
